{
 "currentVersion": 10.91,
 "serviceDescription": "Cartografia tecnica dell'area metropolitana di Bologna",
 "mapName": "Cartografia tecnica",
 "description": "",
 "copyrightText": "SIT Bologna",
 "supportsDynamicLayers": true,
 "layers": [
  {
   "id": 140,
   "name": "Confini comuni contermini",
   "parentLayerId": -1,
   "defaultVisibility": true,
   "subLayerIds": null,
   "minScale": 0,
   "maxScale": 0,
   "type": "Feature Layer",
   "geometryType": "esriGeometryPolygon"
  },
  {
   "id": 4,
   "name": "Label Toponimi 3000",
   "parentLayerId": -1,
   "defaultVisibility": true,
   "subLayerIds": [
    5
   ],
   "minScale": 3000,
   "maxScale": 2258,
   "type": "Annotation Layer",
   "geometryType": "esriGeometryPolygon"
  },
  {
   "id": 5,
   "name": "Default",
   "parentLayerId": 4,
   "defaultVisibility": true,
   "subLayerIds": null,
   "minScale": 4499,
   "maxScale": 3000
  },
  {
   "id": 6,
   "name": "Label Toponimi 2257",
   "parentLayerId": -1,
   "defaultVisibility": true,
   "subLayerIds": [
    7
   ],
   "minScale": 2257,
   "maxScale": 2001,
   "type": "Annotation Layer",
   "geometryType": "esriGeometryPolygon"
  },
  {
   "id": 7,
   "name": "Default",
   "parentLayerId": 6,
   "defaultVisibility": true,
   "subLayerIds": null,
   "minScale": 2999,
   "maxScale": 2000
  },
  {
   "id": 8,
   "name": "Label Toponimi 2000",
   "parentLayerId": -1,
   "defaultVisibility": true,
   "subLayerIds": [
    9
   ],
   "minScale": 2000,
   "maxScale": 1700,
   "type": "Annotation Layer",
   "geometryType": "esriGeometryPolygon"
  },
  {
   "id": 9,
   "name": "Default",
   "parentLayerId": 8,
   "defaultVisibility": true,
   "subLayerIds": null,
   "minScale": 2999,
   "maxScale": 2000
  },
  {
   "id": 80,
   "name": "COMUNE DI BOLOGNA",
   "parentLayerId": -1,
   "defaultVisibility": true,
   "subLayerIds": [
    0,
    12,
    13,
    11,
    29,
    17,
    20,
    31,
    34,
    22,
    115,
    23,
    32,
    35,
    36,
    14,
    40,
    1,
    21,
    24
   ],
   "minScale": 0,
   "maxScale": 0,
   "type": "Group Layer"
  },
  {
   "id": 0,
   "name": "Civici",
   "parentLayerId": 80,
   "defaultVisibility": true,
   "subLayerIds": null,
   "minScale": 2000,
   "maxScale": 0,
   "type": "Feature Layer",
   "geometryType": "esriGeometryPoint"
  },
  {
   "id": 12,
   "name": "Toponimi",
   "parentLayerId": 80,
   "defaultVisibility": true,
   "subLayerIds": null,
   "minScale": 1999,
   "maxScale": 0,
   "type": "Feature Layer",
   "geometryType": "esriGeometryPolyline"
  },
  {
   "id": 13,
   "name": "Toponimi principali",
   "parentLayerId": 80,
   "defaultVisibility": true,
   "subLayerIds": null,
   "minScale": 5000,
   "maxScale": 4500,
   "type": "Feature Layer",
   "geometryType": "esriGeometryPolyline"
  },
  {
   "id": 11,
   "name": "Binari ferroviari",
   "parentLayerId": 80,
   "defaultVisibility": true,
   "subLayerIds": null,
   "minScale": 0,
   "maxScale": 0,
   "type": "Feature Layer",
   "geometryType": "esriGeometryPolyline"
  },
  {
   "id": 29,
   "name": "Marciapiedi",
   "parentLayerId": 80,
   "defaultVisibility": true,
   "subLayerIds": null,
   "minScale": 3000,
   "maxScale": 0,
   "type": "Feature Layer",
   "geometryType": "esriGeometryPolyline"
  },
  {
   "id": 17,
   "name": "Divisioni terreno",
   "parentLayerId": 80,
   "defaultVisibility": true,
   "subLayerIds": null,
   "minScale": 3000,
   "maxScale": 0,
   "type": "Feature Layer",
   "geometryType": "esriGeometryPolyline"
  },
  {
   "id": 20,
   "name": "Cigli stradali",
   "parentLayerId": 80,
   "defaultVisibility": true,
   "subLayerIds": null,
   "minScale": 50000,
   "maxScale": 0,
   "type": "Feature Layer",
   "geometryType": "esriGeometryPolyline"
  },
  {
   "id": 31,
   "name": "Cigli stradali secondari",
   "parentLayerId": 80,
   "defaultVisibility": true,
   "subLayerIds": null,
   "minScale": 50000,
   "maxScale": 0,
   "type": "Feature Layer",
   "geometryType": "esriGeometryPolyline"
  },
  {
   "id": 34,
   "name": "Cigli ferroviari",
   "parentLayerId": 80,
   "defaultVisibility": true,
   "subLayerIds": null,
   "minScale": 0,
   "maxScale": 0,
   "type": "Feature Layer",
   "geometryType": "esriGeometryPolyline"
  },
  {
   "id": 22,
   "name": "Reti idriche",
   "parentLayerId": 80,
   "defaultVisibility": true,
   "subLayerIds": null,
   "minScale": 0,
   "maxScale": 0,
   "type": "Feature Layer",
   "geometryType": "esriGeometryPolyline"
  },
  {
   "id": 115,
   "name": "Reti idriche poligonale",
   "parentLayerId": 80,
   "defaultVisibility": true,
   "subLayerIds": null,
   "minScale": 0,
   "maxScale": 0,
   "type": "Feature Layer",
   "geometryType": "esriGeometryPolygon"
  },
  {
   "id": 23,
   "name": "Canalette irrigue",
   "parentLayerId": 80,
   "defaultVisibility": true,
   "subLayerIds": null,
   "minScale": 10000,
   "maxScale": 0,
   "type": "Feature Layer",
   "geometryType": "esriGeometryPolyline"
  },
  {
   "id": 32,
   "name": "Filari siepi",
   "parentLayerId": 80,
   "defaultVisibility": true,
   "subLayerIds": null,
   "minScale": 2000,
   "maxScale": 0,
   "type": "Feature Layer",
   "geometryType": "esriGeometryPolyline"
  },
  {
   "id": 35,
   "name": "Curve livello 2 metri",
   "parentLayerId": 80,
   "defaultVisibility": true,
   "subLayerIds": null,
   "minScale": 3000,
   "maxScale": 0,
   "type": "Feature Layer",
   "geometryType": "esriGeometryPolyline"
  },
  {
   "id": 36,
   "name": "Curve livello 10 metri",
   "parentLayerId": 80,
   "defaultVisibility": true,
   "subLayerIds": null,
   "minScale": 24000,
   "maxScale": 0,
   "type": "Feature Layer",
   "geometryType": "esriGeometryPolyline"
  },
  {
   "id": 14,
   "name": "Edifici volumetrici",
   "parentLayerId": 80,
   "defaultVisibility": true,
   "subLayerIds": null,
   "minScale": 24000,
   "maxScale": 0,
   "type": "Feature Layer",
   "geometryType": "esriGeometryPolygon"
  },
  {
   "id": 40,
   "name": "Tettoie baracche",
   "parentLayerId": 80,
   "defaultVisibility": true,
   "subLayerIds": null,
   "minScale": 15000,
   "maxScale": 0,
   "type": "Feature Layer",
   "geometryType": "esriGeometryPolygon"
  },
  {
   "id": 1,
   "name": "Archi stradali",
   "parentLayerId": 80,
   "defaultVisibility": true,
   "subLayerIds": null,
   "minScale": 0,
   "maxScale": 50000,
   "type": "Feature Layer",
   "geometryType": "esriGeometryPolyline"
  },
  {
   "id": 21,
   "name": "Verde in manutenzione",
   "parentLayerId": 80,
   "defaultVisibility": true,
   "subLayerIds": null,
   "minScale": 0,
   "maxScale": 0,
   "type": "Feature Layer",
   "geometryType": "esriGeometryPolygon"
  },
  {
   "id": 24,
   "name": "Parco di villa Ghigi",
   "parentLayerId": 80,
   "defaultVisibility": true,
   "subLayerIds": null,
   "minScale": 0,
   "maxScale": 0,
   "type": "Feature Layer",
   "geometryType": "esriGeometryPolygon"
  },
  {
   "id": 90,
   "name": "COMUNI CONTERMINI",
   "parentLayerId": -1,
   "defaultVisibility": true,
   "subLayerIds": [
    101,
    120,
    111,
    100,
    102,
    122,
    123,
    124,
    135,
    106
   ],
   "minScale": 0,
   "maxScale": 0,
   "type": "Group Layer"
  },
  {
   "id": 101,
   "name": "Archi stradali comuni contermini",
   "parentLayerId": 90,
   "defaultVisibility": true,
   "subLayerIds": null,
   "minScale": 0,
   "maxScale": 50000,
   "type": "Feature Layer",
   "geometryType": "esriGeometryPolyline"
  },
  {
   "id": 120,
   "name": "Tronchi stradali comuni contermini",
   "parentLayerId": 90,
   "defaultVisibility": true,
   "subLayerIds": null,
   "minScale": 50000,
   "maxScale": 0,
   "type": "Feature Layer",
   "geometryType": "esriGeometryPolygon"
  },
  {
   "id": 111,
   "name": "Linee ferroviarie comuni contermini",
   "parentLayerId": 90,
   "defaultVisibility": true,
   "subLayerIds": null,
   "minScale": 0,
   "maxScale": 0,
   "type": "Feature Layer",
   "geometryType": "esriGeometryPolyline"
  },
  {
   "id": 100,
   "name": "Civici comuni contermini",
   "parentLayerId": 90,
   "defaultVisibility": true,
   "subLayerIds": null,
   "minScale": 2000,
   "maxScale": 0,
   "type": "Feature Layer",
   "geometryType": "esriGeometryPoint"
  },
  {
   "id": 102,
   "name": "Edifici comuni contermini",
   "parentLayerId": 90,
   "defaultVisibility": true,
   "subLayerIds": null,
   "minScale": 24000,
   "maxScale": 0,
   "type": "Feature Layer",
   "geometryType": "esriGeometryPolygon"
  },
  {
   "id": 122,
   "name": "Corsi d'acqua comuni contermini",
   "parentLayerId": 90,
   "defaultVisibility": true,
   "subLayerIds": null,
   "minScale": 0,
   "maxScale": 0,
   "type": "Feature Layer",
   "geometryType": "esriGeometryPolyline"
  },
  {
   "id": 123,
   "name": "Canalette comuni contermini",
   "parentLayerId": 90,
   "defaultVisibility": true,
   "subLayerIds": null,
   "minScale": 0,
   "maxScale": 0,
   "type": "Feature Layer",
   "geometryType": "esriGeometryPolyline"
  },
  {
   "id": 124,
   "name": "Specchi d'acqua comuni contermini",
   "parentLayerId": 90,
   "defaultVisibility": true,
   "subLayerIds": null,
   "minScale": 0,
   "maxScale": 0,
   "type": "Feature Layer",
   "geometryType": "esriGeometryPolygon"
  },
  {
   "id": 135,
   "name": "Curve di livello",
   "parentLayerId": 90,
   "defaultVisibility": true,
   "subLayerIds": null,
   "minScale": 24000,
   "maxScale": 0,
   "type": "Feature Layer",
   "geometryType": "esriGeometryPolyline"
  },
  {
   "id": 106,
   "name": "Aree verdi comuni contermini",
   "parentLayerId": 90,
   "defaultVisibility": true,
   "subLayerIds": null,
   "minScale": 0,
   "maxScale": 0,
   "type": "Feature Layer",
   "geometryType": "esriGeometryPolygon"
  }
 ],
 "tables": [],
 "spatialReference": {
  "wkid": 7791,
  "latestWkid": 7791
 },
 "singleFusedMapCache": true,
 "tileInfo": {
  "rows": 512,
  "cols": 512,
  "dpi": 96,
  "format": "PNG24",
  "compressionQuality": 0,
  "origin": {
   "x": -5120900,
   "y": 9998100
  },
  "spatialReference": {
   "wkid": 7791,
   "latestWkid": 7791
  },
  "lods": [
   {
    "level": 0,
    "resolution": 39.687579375158755,
    "scale": 150000
   },
   {
    "level": 1,
    "resolution": 26.458386250105836,
    "scale": 100000
   },
   {
    "level": 2,
    "resolution": 19.843789687579378,
    "scale": 75000
   },
   {
    "level": 3,
    "resolution": 19.10925707126831,
    "scale": 72223.819286
   },
   {
    "level": 4,
    "resolution": 18.520870375074086,
    "scale": 70000
   },
   {
    "level": 5,
    "resolution": 13.229193125052918,
    "scale": 50000
   },
   {
    "level": 6,
    "resolution": 10.583354500042335,
    "scale": 40000
   },
   {
    "level": 7,
    "resolution": 9.554628535634155,
    "scale": 36111.909643
   },
   {
    "level": 8,
    "resolution": 6.614596562526459,
    "scale": 25000
   },
   {
    "level": 9,
    "resolution": 5.291677250021167,
    "scale": 20000
   },
   {
    "level": 10,
    "resolution": 4.77731426794937,
    "scale": 18055.954822
   },
   {
    "level": 11,
    "resolution": 2.6458386250105836,
    "scale": 10000
   },
   {
    "level": 12,
    "resolution": 2.388657133974685,
    "scale": 9027.977411
   },
   {
    "level": 13,
    "resolution": 1.3229193125052918,
    "scale": 5000
   },
   {
    "level": 14,
    "resolution": 1.1943285668550503,
    "scale": 4513.988705
   },
   {
    "level": 15,
    "resolution": 0.7937515875031751,
    "scale": 3000
   },
   {
    "level": 16,
    "resolution": 0.5971642835598172,
    "scale": 2256.994353
   },
   {
    "level": 17,
    "resolution": 0.5291677250021167,
    "scale": 2000
   },
   {
    "level": 18,
    "resolution": 0.29858214164761665,
    "scale": 1128.497176
   },
   {
    "level": 19,
    "resolution": 0.26458386250105836,
    "scale": 1000
   }
  ]
 },
 "initialExtent": {
  "xmin": 666054.6154180386,
  "ymin": 4920172.128945504,
  "xmax": 702826.2444819619,
  "ymax": 4944471.509554998,
  "spatialReference": {
   "wkid": 7791,
   "latestWkid": 7791
  }
 },
 "fullExtent": {
  "xmin": 652193.8135737197,
  "ymin": 4902268.28698,
  "xmax": 718391.9948262803,
  "ymax": 4955345.04302,
  "spatialReference": {
   "wkid": 7791,
   "latestWkid": 7791
  }
 },
 "minScale": 150000,
 "maxScale": 1000,
 "minLOD": 0,
 "maxLOD": 19,
 "units": "esriMeters",
 "supportedImageFormatTypes": "PNG32,PNG24,PNG,JPG,DIB,TIFF,EMF,PS,PDF,GIF,SVG,SVGZ,BMP",
 "documentInfo": {
  "Title": "Cartografia",
  "Author": "SIT Comune di Bologna",
  "Comments": "Cartografia chiara del Comune di Bologna",
  "Subject": "Cartografia chiara del Comune di Bologna",
  "Category": "",
  "AntialiasingMode": "None",
  "TextAntialiasingMode": "Force",
  "Keywords": "cartografia,cartografia tecnica,Bologna"
 },
 "capabilities": "Map,Query,Data",
 "supportedQueryFormats": "JSON, geoJSON",
 "exportTilesAllowed": false,
 "referenceScale": 0,
 "datumTransformations": [
  {
   "geoTransforms": [
    {
     "wkid": 108001,
     "latestWkid": 1241,
     "transformForward": true,
     "name": "NAD_1927_To_NAD_1983_NADCON"
    }
   ]
  },
  {
   "geoTransforms": [
    {
     "wkid": 108001,
     "latestWkid": 1241,
     "transformForward": false,
     "name": "NAD_1927_To_NAD_1983_NADCON"
    }
   ]
  }
 ],
 "supportsDatumTransformation": true,
 "maxRecordCount": 1000,
 "maxImageHeight": 4096,
 "maxImageWidth": 4096,
 "supportedExtensions": "",
 "resampling": false,
 "serviceItemId": "d17c71291f0d4073842f156c003daa9a"
}
