{
 "currentVersion": 10.91,
 "serviceDescription": "Sfondo scuro",
 "mapName": "Sfondo scuro",
 "description": "",
 "copyrightText": "SIT Bologna",
 "supportsDynamicLayers": true,
 "layers": [
  {
   "id": 3,
   "name": "Comuni limitrofi",
   "parentLayerId": -1,
   "defaultVisibility": true,
   "subLayerIds": null,
   "minScale": 0,
   "maxScale": 0,
   "type": "Feature Layer",
   "geometryType": "esriGeometryPolygon"
  },
  {
   "id": 27,
   "name": "Comune Bologna",
   "parentLayerId": -1,
   "defaultVisibility": true,
   "subLayerIds": null,
   "minScale": 0,
   "maxScale": 0,
   "type": "Feature Layer",
   "geometryType": "esriGeometryPolygon"
  }
 ],
 "tables": [],
 "spatialReference": {
  "wkid": 7791,
  "latestWkid": 7791
 },
 "singleFusedMapCache": true,
 "tileInfo": {
  "rows": 512,
  "cols": 512,
  "dpi": 96,
  "format": "PNG24",
  "compressionQuality": 0,
  "origin": {
   "x": -5120900,
   "y": 9998100
  },
  "spatialReference": {
   "wkid": 7791,
   "latestWkid": 7791
  },
  "lods": [
   {
    "level": 0,
    "resolution": 19.10925707126831,
    "scale": 72223.819286
   },
   {
    "level": 1,
    "resolution": 18.520870375074086,
    "scale": 70000
   },
   {
    "level": 2,
    "resolution": 10.583354500042335,
    "scale": 40000
   },
   {
    "level": 3,
    "resolution": 9.554628535634155,
    "scale": 36111.909643
   },
   {
    "level": 4,
    "resolution": 5.291677250021167,
    "scale": 20000
   },
   {
    "level": 5,
    "resolution": 4.77731426794937,
    "scale": 18055.954822
   },
   {
    "level": 6,
    "resolution": 2.6458386250105836,
    "scale": 10000
   },
   {
    "level": 7,
    "resolution": 2.388657133974685,
    "scale": 9027.977411
   },
   {
    "level": 8,
    "resolution": 1.3229193125052918,
    "scale": 5000
   },
   {
    "level": 9,
    "resolution": 1.1943285668550503,
    "scale": 4513.988705
   },
   {
    "level": 10,
    "resolution": 0.7937515875031751,
    "scale": 3000
   },
   {
    "level": 11,
    "resolution": 0.5971642835598172,
    "scale": 2256.994353
   },
   {
    "level": 12,
    "resolution": 0.5291677250021167,
    "scale": 2000
   },
   {
    "level": 13,
    "resolution": 0.29858214164761665,
    "scale": 1128.497176
   },
   {
    "level": 14,
    "resolution": 0.26458386250105836,
    "scale": 1000
   }
  ]
 },
 "initialExtent": {
  "xmin": 638954.1773232076,
  "ymin": 4925832.2196937185,
  "xmax": 731631.6310767924,
  "ymax": 4955576.672756525,
  "spatialReference": {
   "wkid": 7791,
   "latestWkid": 7791
  }
 },
 "fullExtent": {
  "xmin": 638954.1773232076,
  "ymin": 4902268.28698,
  "xmax": 731631.6310767924,
  "ymax": 4955345.04302,
  "spatialReference": {
   "wkid": 7791,
   "latestWkid": 7791
  }
 },
 "minScale": 72223.819286,
 "maxScale": 1000,
 "minLOD": 0,
 "maxLOD": 14,
 "units": "esriMeters",
 "supportedImageFormatTypes": "PNG32,PNG24,PNG,JPG,DIB,TIFF,EMF,PS,PDF,GIF,SVG,SVGZ,BMP",
 "documentInfo": {
  "Title": "Sfondo scuro",
  "Author": "SIT Comune di Bologna",
  "Comments": " Sfondo scuro<\/SPAN><\/P><\/DIV><\/DIV>",
  "Subject": "sfondo scuro",
  "Category": "",
  "AntialiasingMode": "None",
  "TextAntialiasingMode": "Force",
  "Keywords": "sfondo scuro,sfondo"
 },
 "capabilities": "Map,Query,Data",
 "supportedQueryFormats": "JSON, geoJSON",
 "exportTilesAllowed": false,
 "referenceScale": 0,
 "datumTransformations": [
  {
   "geoTransforms": [
    {
     "wkid": 108001,
     "latestWkid": 1241,
     "transformForward": true,
     "name": "NAD_1927_To_NAD_1983_NADCON"
    }
   ]
  },
  {
   "geoTransforms": [
    {
     "wkid": 108001,
     "latestWkid": 1241,
     "transformForward": false,
     "name": "NAD_1927_To_NAD_1983_NADCON"
    }
   ]
  }
 ],
 "supportsDatumTransformation": true,
 "maxRecordCount": 1000,
 "maxImageHeight": 4096,
 "maxImageWidth": 4096,
 "supportedExtensions": "",
 "serviceItemId": "08d99318daeb448c923a85af79cf5600"
}
