{ "currentVersion": 10.91, "cimVersion": "2.9.0", "serviceDescription": "
Volo aereo del Comune di Bologna<\/SPAN><\/P><\/DIV><\/DIV><\/DIV>",
"mapName": "Cartografia1985",
"description": " Volo aereo del Comune di Bologna<\/SPAN><\/P><\/DIV><\/DIV><\/DIV>",
"copyrightText": "SIT - Comune di Bologna",
"supportsDynamicLayers": false,
"layers": [
{
"id": 0,
"name": "Comuni limitrofi",
"parentLayerId": -1,
"defaultVisibility": true,
"subLayerIds": null,
"minScale": 0,
"maxScale": 0,
"type": "Feature Layer",
"geometryType": "esriGeometryPolygon",
"supportsDynamicLegends": true
}
],
"tables": [],
"spatialReference": {
"wkid": 7791,
"latestWkid": 7791,
"xyTolerance": 0.001,
"zTolerance": 0.001,
"mTolerance": 0.001,
"falseX": -5120900,
"falseY": -9998100,
"xyUnits": 4.504455473910538E8,
"falseZ": -100000,
"zUnits": 10000,
"falseM": -100000,
"mUnits": 10000
},
"singleFusedMapCache": true,
"tileInfo": {
"rows": 512,
"cols": 512,
"dpi": 96,
"format": "PNG24",
"compressionQuality": 0,
"origin": {
"x": -5120900,
"y": 9998100
},
"spatialReference": {
"wkid": 7791,
"latestWkid": 7791,
"xyTolerance": 0.001,
"zTolerance": 0.001,
"mTolerance": 0.001,
"falseX": -5120900,
"falseY": -9998100,
"xyUnits": 4.504455473910538E8,
"falseZ": -100000,
"zUnits": 10000,
"falseM": -100000,
"mUnits": 10000
},
"lods": [
{
"level": 0,
"resolution": 19.10925707126831,
"scale": 72223.819286
},
{
"level": 1,
"resolution": 18.520870375074086,
"scale": 70000
},
{
"level": 2,
"resolution": 10.583354500042335,
"scale": 40000
},
{
"level": 3,
"resolution": 9.554628535634155,
"scale": 36111.909643
},
{
"level": 4,
"resolution": 5.291677250021167,
"scale": 20000
},
{
"level": 5,
"resolution": 4.77731426794937,
"scale": 18055.954822
},
{
"level": 6,
"resolution": 2.6458386250105836,
"scale": 10000
},
{
"level": 7,
"resolution": 2.388657133974685,
"scale": 9027.977411
},
{
"level": 8,
"resolution": 1.3229193125052918,
"scale": 5000
},
{
"level": 9,
"resolution": 1.1943285668550503,
"scale": 4513.988705
},
{
"level": 10,
"resolution": 0.7937515875031751,
"scale": 3000
},
{
"level": 11,
"resolution": 0.5971642835598172,
"scale": 2256.994353
},
{
"level": 12,
"resolution": 0.5291677250021167,
"scale": 2000
},
{
"level": 13,
"resolution": 0.29858214164761665,
"scale": 1128.497176
},
{
"level": 14,
"resolution": 0.26458386250105836,
"scale": 1000
}
]
},
"storageInfo": {
"storageFormat": "esriMapCacheStorageModeCompactV2",
"packetSize": 128
},
"initialExtent": {
"xmin": 672319.7775958161,
"ymin": 4919104.029241354,
"xmax": 698413.1229322731,
"ymax": 4938725.728705932,
"spatialReference": {
"wkid": 7791,
"latestWkid": 7791,
"xyTolerance": 0.001,
"zTolerance": 0.001,
"mTolerance": 0.001,
"falseX": -5120900,
"falseY": -9998100,
"xyUnits": 4.504455473910538E8,
"falseZ": -100000,
"zUnits": 10000,
"falseM": -100000,
"mUnits": 10000
}
},
"fullExtent": {
"xmin": 673355.665799644,
"ymin": 4919728.527310643,
"xmax": 697377.2346761151,
"ymax": 4938101.230722716,
"spatialReference": {
"wkid": 7791,
"latestWkid": 7791,
"xyTolerance": 0.001,
"zTolerance": 0.001,
"mTolerance": 0.001,
"falseX": -5120900,
"falseY": -9998100,
"xyUnits": 4.504455473910538E8,
"falseZ": -100000,
"zUnits": 10000,
"falseM": -100000,
"mUnits": 10000
}
},
"datesInUnknownTimezone": false,
"minScale": 72223.819286,
"maxScale": 1000,
"maxLOD": 14,
"units": "esriMeters",
"supportedImageFormatTypes": "PNG32,PNG24,PNG,JPG,DIB,TIFF,EMF,PS,PDF,GIF,SVG,SVGZ,BMP",
"documentInfo": {
"Title": "Cartografia1985",
"Author": "",
"Comments": " Volo aereo del Comune di Bologna<\/SPAN><\/P><\/DIV><\/DIV><\/DIV>",
"Subject": "Volo aereo del Comune di Bologna",
"Category": "",
"AntialiasingMode": "Best",
"TextAntialiasingMode": "Force",
"Version": "2.9.0",
"Keywords": "orotofoto,volo,immagini,Bologna"
},
"supportsQueryDomains": true,
"capabilities": "Map,Query,Data",
"supportedQueryFormats": "JSON, geoJSON, PBF",
"exportTilesAllowed": false,
"referenceScale": 0.0,
"datumTransformations": [
{
"geoTransforms": [
{
"wkid": 108001,
"latestWkid": 1241,
"transformForward": true,
"name": "NAD_1927_To_NAD_1983_NADCON"
}
]
},
{
"geoTransforms": [
{
"wkid": 108001,
"latestWkid": 1241,
"transformForward": false,
"name": "NAD_1927_To_NAD_1983_NADCON"
}
]
},
{
"geoTransforms": [
{
"wkid": 1659,
"latestWkid": 1659,
"transformForward": true,
"name": "Monte_Mario_To_ETRS_1989_1"
},
{
"wkid": 6710,
"latestWkid": 6710,
"transformForward": false,
"name": "RDN2008_To_ETRS_1989_1"
}
]
},
{
"geoTransforms": [
{
"wkid": 6710,
"latestWkid": 6710,
"transformForward": true,
"name": "RDN2008_To_ETRS_1989_1"
},
{
"wkid": 1659,
"latestWkid": 1659,
"transformForward": false,
"name": "Monte_Mario_To_ETRS_1989_1"
}
]
}
],
"supportsDatumTransformation": true,
"archivingInfo": {"supportsHistoricMoment": false},
"supportsClipping": true,
"supportsSpatialFilter": true,
"supportsTimeRelation": true,
"supportsQueryDataElements": true,
"maxRecordCount": 2000,
"maxImageHeight": 4096,
"maxImageWidth": 4096,
"supportedExtensions": "",
"resampling": false,
"serviceItemId": "c707b0efe61143cab5799cd8178bb240"
}